BEGIN:VCALENDAR
VERSION:2.0
PRODID:-//Pueblo Belgrano - Turismo - ECPv6.2.9//NONSGML v1.0//EN
CALSCALE:GREGORIAN
METHOD:PUBLISH
X-WR-CALNAME:Pueblo Belgrano - Turismo
X-ORIGINAL-URL:https://www.turismopueblobelgrano.gob.ar
X-WR-CALDESC:Eventos para Pueblo Belgrano - Turismo
REFRESH-INTERVAL;VALUE=DURATION:PT1H
X-Robots-Tag:noindex
X-PUBLISHED-TTL:PT1H
BEGIN:VTIMEZONE
TZID:America/Argentina/Buenos_Aires
BEGIN:STANDARD
TZOFFSETFROM:-0300
TZOFFSETTO:-0300
TZNAME:-03
DTSTART:20240101T000000
END:STANDARD
END:VTIMEZONE
BEGIN:VEVENT
DTSTART;TZID=America/Argentina/Buenos_Aires:20240421T200000
DTEND;TZID=America/Argentina/Buenos_Aires:20240421T220000
DTSTAMP:20260425T142744
CREATED:20240419T135128Z
LAST-MODIFIED:20240419T135128Z
UID:7192-1713729600-1713736800@www.turismopueblobelgrano.gob.ar
SUMMARY:Lo mejor de Nito y Cherutti
DESCRIPTION:Después de años separados luego de hacer juntos grandes éxitos superando en cada uno los 100 mil espectadores  Giuliano Bacchi y Sequeira Producciones lograron convencer a NITO ARTAZA y MIGUEL ANGEL CHERUTTI de festejar sus 30 años juntos realizando una gira por todo el país. \nDe esta combinación resulta un show con un fuerte sabor a revista\, que revela un notable perfeccionamiento en cuanto a la diversidad de cuadros.\n“LO MEJOR DE NITO Y CHERUTTI” es el título de este espectáculo\, y no hace falta aclarar por que. \n  \nEstarán acompañados por la belleza y el talento de la actriz\, bailarina e imitadora BELÉN DI GIORGIO.
URL:https://www.turismopueblobelgrano.gob.ar/calendario/lo-mejor-de-nito-y-cherutti/
LOCATION:Teatro Gualeguaychú\, teatro gualeguaychú\, Gualeguaychú\, Entre Ríos\, 2820\, Argentina
CATEGORIES:Fin de semana
ATTACH;FMTTYPE=image/jpeg:https://www.turismopueblobelgrano.gob.ar/wp-content/uploads/landscape_o__Gualeguaychu_1711111348.jpg
END:VEVENT
END:VCALENDAR