BEGIN:VCALENDAR
VERSION:2.0
PRODID:-//Pueblo Belgrano - Turismo - ECPv6.2.9//NONSGML v1.0//EN
CALSCALE:GREGORIAN
METHOD:PUBLISH
X-WR-CALNAME:Pueblo Belgrano - Turismo
X-ORIGINAL-URL:https://www.turismopueblobelgrano.gob.ar
X-WR-CALDESC:Eventos para Pueblo Belgrano - Turismo
REFRESH-INTERVAL;VALUE=DURATION:PT1H
X-Robots-Tag:noindex
X-PUBLISHED-TTL:PT1H
BEGIN:VTIMEZONE
TZID:America/Argentina/Buenos_Aires
BEGIN:STANDARD
TZOFFSETFROM:-0300
TZOFFSETTO:-0300
TZNAME:-03
DTSTART:20240101T000000
END:STANDARD
END:VTIMEZONE
BEGIN:VEVENT
DTSTART;TZID=America/Argentina/Buenos_Aires:20240411T180000
DTEND;TZID=America/Argentina/Buenos_Aires:20240411T200000
DTSTAMP:20260425T082334
CREATED:20240323T180353Z
LAST-MODIFIED:20240323T180353Z
UID:7146-1712858400-1712865600@www.turismopueblobelgrano.gob.ar
SUMMARY:Las Aventuras del Explotador
DESCRIPTION:El espectáculo infantil del momento que divierte a Grandes y Niños llega en el marco de su exitosa Gira Nacional. \nCon una brillante actuación de Rodrigo Esmella (aclamada por la crítica) en el roll del explorador y un Gran elenco. \nLAS AVENTURAS DEL EXPLORADOR \nLogra atrapar al espectador con un imponente despliegue escénico\, musicales educativos\, efectos especiales\, logrando un show lúdico con dosis de comicidad para toda la Familia que mantiene al espectador entretenido de principio a Fin. \n\nEntradas a la venta en Hotel Amalfi y  www.passline.com/eventos
URL:https://www.turismopueblobelgrano.gob.ar/calendario/las-aventuras-del-explotador/
LOCATION:Teatro Gualeguaychú\, teatro gualeguaychú\, Gualeguaychú\, Entre Ríos\, 2820\, Argentina
CATEGORIES:Dia de Semana
ATTACH;FMTTYPE=image/jpeg:https://www.turismopueblobelgrano.gob.ar/wp-content/uploads/landscape_o__Gualeguaychu_1710940407.jpg
END:VEVENT
END:VCALENDAR