BEGIN:VCALENDAR
VERSION:2.0
PRODID:-//Pueblo Belgrano - Turismo - ECPv6.2.9//NONSGML v1.0//EN
CALSCALE:GREGORIAN
METHOD:PUBLISH
X-WR-CALNAME:Pueblo Belgrano - Turismo
X-ORIGINAL-URL:https://www.turismopueblobelgrano.gob.ar
X-WR-CALDESC:Eventos para Pueblo Belgrano - Turismo
REFRESH-INTERVAL;VALUE=DURATION:PT1H
X-Robots-Tag:noindex
X-PUBLISHED-TTL:PT1H
BEGIN:VTIMEZONE
TZID:America/Argentina/Buenos_Aires
BEGIN:STANDARD
TZOFFSETFROM:-0300
TZOFFSETTO:-0300
TZNAME:-03
DTSTART:20240101T000000
END:STANDARD
END:VTIMEZONE
BEGIN:VEVENT
DTSTART;VALUE=DATE:20241006
DTEND;VALUE=DATE:20241007
DTSTAMP:20260422T175017
CREATED:20240830T134853Z
LAST-MODIFIED:20240830T134853Z
UID:7453-1728172800-1728259199@www.turismopueblobelgrano.gob.ar
SUMMARY:Iroman
DESCRIPTION:Iroman triathlon Gualeguaychú 2024\n6 de Octubre
URL:https://www.turismopueblobelgrano.gob.ar/calendario/iroman/
LOCATION:Zona Portuaria Gualeguaychú\, Galpones del puerto\, Gualeguaychú\, Entre Ríos\, 2820\, Argentina
CATEGORIES:Fin de semana
ATTACH;FMTTYPE=image/png:https://www.turismopueblobelgrano.gob.ar/wp-content/uploads/Diseno-sin-titulo-7-1.png
END:VEVENT
END:VCALENDAR