BEGIN:VCALENDAR
VERSION:2.0
PRODID:-//Pueblo Belgrano - Turismo - ECPv6.2.9//NONSGML v1.0//EN
CALSCALE:GREGORIAN
METHOD:PUBLISH
X-WR-CALNAME:Pueblo Belgrano - Turismo
X-ORIGINAL-URL:https://www.turismopueblobelgrano.gob.ar
X-WR-CALDESC:Eventos para Pueblo Belgrano - Turismo
REFRESH-INTERVAL;VALUE=DURATION:PT1H
X-Robots-Tag:noindex
X-PUBLISHED-TTL:PT1H
BEGIN:VTIMEZONE
TZID:America/Argentina/Buenos_Aires
BEGIN:STANDARD
TZOFFSETFROM:-0300
TZOFFSETTO:-0300
TZNAME:-03
DTSTART:20240101T000000
END:STANDARD
END:VTIMEZONE
BEGIN:VEVENT
DTSTART;VALUE=DATE:20241116
DTEND;VALUE=DATE:20241118
DTSTAMP:20260422T150713
CREATED:20240815T170312Z
LAST-MODIFIED:20240815T170547Z
UID:7433-1731715200-1731887999@www.turismopueblobelgrano.gob.ar
SUMMARY:FIESTA DE LAS COSTUMBRES ARGENTINAS
DESCRIPTION:Acto protocolar \nDesfile de agrupaciones tradicionalistas\nEscenario artístico\nFeria gastronómica- Feria artesanal\nCampo de destrezas criollas
URL:https://www.turismopueblobelgrano.gob.ar/calendario/fiesta-de-las-costumbres-argentinas/
CATEGORIES:Fin de semana
ATTACH;FMTTYPE=image/png:https://www.turismopueblobelgrano.gob.ar/wp-content/uploads/COSTUMBRES-ARGENTINAS-2024-1.png
END:VEVENT
END:VCALENDAR