BEGIN:VCALENDAR
VERSION:2.0
PRODID:-//Pueblo Belgrano - Turismo - ECPv6.2.9//NONSGML v1.0//EN
CALSCALE:GREGORIAN
METHOD:PUBLISH
X-WR-CALNAME:Pueblo Belgrano - Turismo
X-ORIGINAL-URL:https://www.turismopueblobelgrano.gob.ar
X-WR-CALDESC:Eventos para Pueblo Belgrano - Turismo
REFRESH-INTERVAL;VALUE=DURATION:PT1H
X-Robots-Tag:noindex
X-PUBLISHED-TTL:PT1H
BEGIN:VTIMEZONE
TZID:America/Argentina/Buenos_Aires
BEGIN:STANDARD
TZOFFSETFROM:-0300
TZOFFSETTO:-0300
TZNAME:-03
DTSTART:20240101T000000
END:STANDARD
END:VTIMEZONE
BEGIN:VEVENT
DTSTART;TZID=America/Argentina/Buenos_Aires:20240817T150000
DTEND;TZID=America/Argentina/Buenos_Aires:20240817T190000
DTSTAMP:20260422T203350
CREATED:20240815T171204Z
LAST-MODIFIED:20240815T171204Z
UID:7438-1723906800-1723921200@www.turismopueblobelgrano.gob.ar
SUMMARY:DÍA DE LAS INFANCIAS
DESCRIPTION:FESTEJAMOS EL DÍA DE LAS INFANCIAS \nEl sábado 17 de agosto te esperamos en la Plaza Belgrano desde las 15:00hs. Para compartir una tarde de juegos\, música y diversión
URL:https://www.turismopueblobelgrano.gob.ar/calendario/dia-de-las-infancias/
LOCATION:Plaza Principal Pueblo Belgrano\, 30 de noviembre y primera junta\, Pueblo General Belgrano\, Entre Ríos\, 2821\, Argentina
CATEGORIES:Fin de semana
ATTACH;FMTTYPE=image/jpeg:https://www.turismopueblobelgrano.gob.ar/wp-content/uploads/7da9fc43-9c1e-423b-a4be-2ed15cfeac62.jpg
END:VEVENT
END:VCALENDAR