BEGIN:VCALENDAR
VERSION:2.0
PRODID:-//Pueblo Belgrano - Turismo - ECPv6.2.9//NONSGML v1.0//EN
CALSCALE:GREGORIAN
METHOD:PUBLISH
X-WR-CALNAME:Pueblo Belgrano - Turismo
X-ORIGINAL-URL:https://www.turismopueblobelgrano.gob.ar
X-WR-CALDESC:Eventos para Pueblo Belgrano - Turismo
REFRESH-INTERVAL;VALUE=DURATION:PT1H
X-Robots-Tag:noindex
X-PUBLISHED-TTL:PT1H
BEGIN:VTIMEZONE
TZID:America/Argentina/Buenos_Aires
BEGIN:STANDARD
TZOFFSETFROM:-0300
TZOFFSETTO:-0300
TZNAME:-03
DTSTART:20250101T000000
END:STANDARD
END:VTIMEZONE
BEGIN:VEVENT
DTSTART;TZID=America/Argentina/Buenos_Aires:20250104T210000
DTEND;TZID=America/Argentina/Buenos_Aires:20250303T000000
DTSTAMP:20260422T124048
CREATED:20250102T124714Z
LAST-MODIFIED:20250102T124714Z
UID:7559-1736024400-1740960000@www.turismopueblobelgrano.gob.ar
SUMMARY:Carnaval del País
DESCRIPTION:
URL:https://www.turismopueblobelgrano.gob.ar/calendario/carnaval-del-pais-2/
LOCATION:Corsodromo\, Museo Del Carnaval\, Gualeguaychú
CATEGORIES:Fin de semana
ATTACH;FMTTYPE=image/jpeg:https://www.turismopueblobelgrano.gob.ar/wp-content/uploads/214fdbe1-118b-44e4-a924-37270d4da7f0-e1735822097863.jpg
END:VEVENT
END:VCALENDAR