BEGIN:VCALENDAR
VERSION:2.0
PRODID:-//Pueblo Belgrano - Turismo - ECPv6.2.9//NONSGML v1.0//EN
CALSCALE:GREGORIAN
METHOD:PUBLISH
X-WR-CALNAME:Pueblo Belgrano - Turismo
X-ORIGINAL-URL:https://www.turismopueblobelgrano.gob.ar
X-WR-CALDESC:Eventos para Pueblo Belgrano - Turismo
REFRESH-INTERVAL;VALUE=DURATION:PT1H
X-Robots-Tag:noindex
X-PUBLISHED-TTL:PT1H
BEGIN:VTIMEZONE
TZID:America/Argentina/Buenos_Aires
BEGIN:STANDARD
TZOFFSETFROM:-0300
TZOFFSETTO:-0300
TZNAME:-03
DTSTART:20240101T000000
END:STANDARD
END:VTIMEZONE
BEGIN:VEVENT
DTSTART;TZID=America/Argentina/Buenos_Aires:20240720T130000
DTEND;TZID=America/Argentina/Buenos_Aires:20240720T170000
DTSTAMP:20260423T024147
CREATED:20240715T172904Z
LAST-MODIFIED:20240715T172904Z
UID:7364-1721480400-1721494800@www.turismopueblobelgrano.gob.ar
SUMMARY:Aeroclub
DESCRIPTION:
URL:https://www.turismopueblobelgrano.gob.ar/calendario/aeroclub/
CATEGORIES:Vacaciones de invierno
END:VEVENT
END:VCALENDAR